Workbook

Sheet Computation
A1: SRI RAM | I1: AY 2022-23 (i.e. FY 2021-22)
A2: Address : Ramjanki Mandir, Dashrath Nagar, Ayodhya, Uttar Pradesh-111111
A4: Computation of Income (ITR-4)
A5: PAN : | C5: ABCDE1234F | G5: Aadhar : | I5: 01xx xxxx 1111
A6: DOB : | C6: 01/01/0001 | G6: Status : | I6: Individual
A7: Father's Name : | C7: Maharaj Dashrath
A9: Tax Summary (Amount in 'Rs.')
A10: Income from Salary | I10: =I43 -> 161800
A11: Income from House Property | I11: =I51 -> 100440
A12: Income from Business & Profession | I12: =I58 -> 366949
A13: Income from Capital Gains | I13: =I64 -> 120
A14: Income Other Sources | I14: =I71 -> 8320
A15: Gross Total Income | I15: =SUM(I10:I14) -> 637629
A16: Less : Total Deductions | I16: =H78 -> 78060
A17: Total Income | I17: =I15-I16 -> 559569
A18: Total Income (Rounded-Off) | I18: =ROUND(I17,-1) -> 559570
A19: Total Income Taxable as per slab rate | E19: =I18-I13 -> 559450 | G19: Tax Liability | I19: =IF(E19>1000000,112500+(E19-1000000)*30%,IF(E19>500000,12500+(E19-500000)*20%,(E19-250000)*5%)) -> 24390
A20: Total Income Taxable at special rate | E20: =I13 -> 120 | G20: Tax Liability | I20: =E20*15% -> 18
A21: Tax Liability (Total) | I21: =I19+I20 -> 24408
A22: Less : Rebate u/s-87A (upto Rs. 12,500) | I22: =IF(I21<=12500,I21,0) -> 0
A23: Tax Liability without Cess | I23: =I21-I22 -> 24408
A24: Add : Cess @ 4% | I24: =ROUND(I23*4%,-0.1) -> 976
A25: Total Tax Liability | I25: =I23-I24 -> 23432
A26: Add : Interest u/s-234A/B/C | I26: 0
A27: Add : Late-Fee u/s-234F | I27: 0
A28: Total Tax, Cess, Interest & Late-Fee | I28: =SUM(I25:I27) -> 23432
A29: Less : Prepaid Taxes
A30: (i) Advance Tax / Self Assessment Tax | I30: 23430
A31: (ii) TDS / TCS | I31: 0
A32: Tax Payable / (Refundable) | I32: =ROUND(I25-I30-I31,-1) -> 0
A33: Tax Payable / (Refundable) Rounded-Off | I33: =I32 -> 0
A35: DETAILS OF INCOME
A36: SALARY
A37: Particulars | I37: Total Amount
A38: Gross Salary Received from Tax Solutions, Delhi-110092 | I38: =21000*12 -> 252000
A39: Less : Allowances & Exemptions
A40: HRA u/s-10(13A) | I40: =I38*15% -> 37800
A41: Standard Deduction u/s-16(ia) | I41: 50000
A42: Professional Tax u/s-16(iii) | I42: 2400
A43: Taxable Salary | I43: =I38-I40-I41-I42 -> 161800
...

Sheet P&L
A1: =Computation!H55 -> SRI RAM TRADERS
A2: (PROP : SRI RAM)
A3: =Computation!A2 -> Address : Ramjanki Mandir, Dashrath Nagar, Ayodhya, Uttar Pradesh-111111
A5: Trading & Profit & Loss A/c for the year ended 31st March 2022
A7: Particulars | B7: Amount | C7: Particulars | D7: Amount
A8: To Opening Stock | B8: 210000 | C8: By Sales | D8: 3100000
A9: To Purchases | B9: =ROUND(D8*0.82,-0.1) -> 2542000
A10: To Gross Profit | B10: =D11-B8-B9 -> 658000 | C10: By Closing Stock | D10: 310000
B11: =SUM(B8:B10) -> 3410000 | D11: =SUM(D8:D10) -> 3410000
A12: To Salary & Wages | B12: 151000 | C12: By Gross Profit | D12: =B10 -> 658000
A13: To Rent | B13: 91000
A14: To Staff Welfare | B14: 3100
A15: To Bank Charges & Interest | B15: 151
A16: To Festival Exps | B16: 5100
A17: To Power & Fuel | B17: =500*12 -> 6000
A18: To ITR & Legal Filings | B18: 12000
A19: To Printing & Stationary | B19: 1500
A20: To Mobile & Wi-Fi | B20: 9100
A21: To Travelling & Conveyance | B21: 11000
A22: To Misc. Charges | B22: 1100
A23: To Net Profit | B23: =D24-(SUM(B12:B22)) -> 366949
B24: =SUM(B12:B23) -> 658000 | D24: =SUM(D12:D23) -> 658000
D26: For Sri Ram Traders
D31: (Proprietor)

Sheet BS
A1: ='P&L'!A1:D1 -> SRI RAM TRADERS
A2: ='P&L'!A2:D2 -> (PROP : SRI RAM)
A3: ='P&L'!A3:D3 -> Address : Ramjanki Mandir, Dashrath Nagar, Ayodhya, Uttar Pradesh-111111
A5: BALANCE SHEET
A6: (as on 31-03-2022)
A8: LIABILITIES | B8: Details (Rs.) | C8: Amount (Rs.) | D8: ASSETS | E8: Details (Rs.) | F8: Amount (Rs.)
A9: Capital A/c | D9: Fixed Assets
A10: Proprietor's Fund | B10: ='Cap. & Dep.'!D11 -> 927170 | C10: =B10 -> 927170 | D10: Gross Block (Anx.-2) | E10: ='Cap. & Dep.'!H21 -> 282200
A11: (Anx.-1) | D11: Less : Dep. (Anx.-2) | E11: ='Cap. & Dep.'!I21 -> 31830 | F11: =E10-E11 -> 250370
A13: Lonas & Liabilities | D13: Deposits & Investments
A14: Secured Loans : | B14: 0 | C14: =B14 -> 0 | D14: F.D./R.D./Deposits | E14: 101000
A15: Unsecured Loans : | B15: 0 | C15: =B15 -> 0 | D15: Other Assets | E15: 21000 | F15: =SUM(E14:E15) -> 122000
A17: Current Liabilities | D17: Current Assets
A18: Sundry Creditors | B18: 151000 | D18: Stock in Trade | E18: ='P&L'!D10 -> 310000
A19: Salary Payable | B19: 5100 | D19: Sundry Debtors | E19: 251000
A20: Misc. Payables | B20: 1100 | C20: =SUM(B18:B20) -> 157200 | D20: Cash and Bank | E20: 151000 | F20: =SUM(E18:E20) -> 712000
A22: Total | C22: =SUM(C10:C21) -> 1084370 | D22: Total | F22: =SUM(F10:F21) -> 1084370
F24: For Sri Ram Traders
F29: (Proprietor)

Sheet Cap. & Dep.
B1: SCHEDULES FORMING PART OF BALANCE SHEET | I1: AY : 2022-23
I2: FY : 2021-22
B3: Capital Account of : | D3: =BS!A1 -> SRI RAM TRADERS | G3: =BS!A2 -> (PROP : SRI RAM)
D4: Annexure - 1
B5: Particulars | D5: Amount (Rs.)
B6: Opening Balance | D6: 499541
B7: Add : Introduction | D7: 0
B8: Add : Profit (C.Y.) | D8: =Computation!I15 -> 637629
B9: Total | D9: =SUM(D6:D8) -> 1137170
B10: Less : Drawings | D10: 210000
B11: Closing Balance | D11: =D9-D10 -> 927170
B14: Schedule of Depreciation as per Income Tax Act, 1961
J15: Annexure - 2
B16: Particulars | C16: Rate | D16: Opening WDV (Rs.) | E16: Addition for more than 180 days (Rs.) | F16: Addition for less than 180 days (Rs.) | G16: Deletion (Rs.) | H16: Total (Rs.) | I16: Depreciation (Rs.) | J16: Closing WDV (Rs.)
B17: Furniture & Fixtures | C17: 0.1 | D17: 210000 | E17: 0 | F17: 0 | G17: 0 | H17: =D17+E17+F17-G17 -> 210000 | I17: =ROUND(D17*C17+E17*C17+F17*C17/2,-0.1) -> 21000 | J17: =H17-I17 -> 189000
B18: Mobile | C18: 0.15 | D18: 8100 | E18: 0 | F18: 0 | G18: 0 | H18: =D18+E18+F18-G18 -> 8100 | I18: =ROUND(D18*C18+E18*C18+F18*C18/2,-0.1) -> 1215 | J18: =H18-I18 -> 6885
B19: Bike | C19: 0.15 | D19: 51000 | E19: 0 | F19: 0 | G19: 0 | H19: =D19+E19+F19-G19 -> 51000 | I19: =ROUND(D19*C19+E19*C19+F19*C19/2,0.1) -> 7650 | J19: =H19-I19 -> 43350
B20: Equipment for Work | C20: 0.15 | D20: 11000 | E20: 2100 | F20: 0 | G20: 0 | H20: =D20+E20+F20-G20 -> 13100 | I20: =ROUND(D20*C20+E20*C20+F20*C20/2,-0.1) -> 1965 | J20: =H20-I20 -> 11135
B21: Total | D21: =SUM(D17:D20) -> 280100 | E21: =SUM(E17:E20) -> 2100 | F21: =SUM(F17:F20) -> 0 | G21: =SUM(G17:G20) -> 0 | H21: =SUM(H17:H20) -> 282200 | I21: =SUM(I17:I20) -> 31830 | J21: =SUM(J17:J20) -> 250370
J23: For Sri Ram Traders
J28: (Proprietor)
