Workbook

Sheet Computation
A1: RAM KUMAR | I1: AY 2025-26 (i.e. FY 2024-25)
A2: Address : Ram Nagari, Ayodhya, Uttar Pradesh - 224123
A4: Computation of Income (ITR - 3)
A5: PAN : | C5: ABCDE1234F | G5: Aadhar : | I5: xxxx xxxx xxxx
A6: DOB : | C6: 01/01/0000 | G6: Status : | I6: Individual
A7: Father's Name : | C7: Maharaj Dashrath | G7: Tax Regime : | I7: New u/s-115BAC
A9: Tax Summary (Amount in 'Rs.')
A10: Source of Income | I10: Amount
A11: Income from Salary | I11: =I35 -> 250000
A12: Income from Business & Profession | I12: =I42 -> 406521
A13: Income Other Sources | I13: =I48 -> 39903
A14: Gross Total Income | I14: =SUM(I11:I13) -> 696424
A15: Less : Total Deductions | I15: =H54 -> 0
A16: Total Income | I16: =I14-I15 -> 696424
A17: Total Income (Rounded-Off) | I17: =ROUND(I16,-1) -> 696420
A18: Total Income Taxable as per slab rate | E18: =I17-E19 -> 696420 | G18: Tax Liability | I18: =IF(E18>1500000,140000+(E18-1500000)*30%,IF(E18>1200000,80000+(E18-1200000)*20%,IF(E18>1000000,50000+(E18-1000000)*15%,IF(E18>700000,20000+(E18-700000)*10%,(E18-300000)*5%)))) -> 19821
A19: Total Income Taxable at special rate | E19: 0 | G19: Tax Liability | I19: =E19*15% -> 0
A20: Tax Liability (Total) | I20: =I18+I19 -> 19821
A21: Less : Rebate u/s-87A (upto Rs. 25,000) | I21: =IF(I20<=25000,I20,0) -> 19821
A22: Tax Liability without Cess | I22: =I20-I21 -> 0
A23: Add : Cess @ 4% | I23: =ROUND(I22*4%,-0.1) -> 0
A24: Total Tax Liability | I24: =I22+I23 -> 0
A25: Less : Prepaid Taxes
A26: (i) TDS / TCS | I26: 0
A27: Tax Payable / (Refundable) | I27: =I24-I26 -> 0
A28: Tax Payable / (Refundable) Rounded-Off | I28: =ROUND(I27,-1) -> 0
A30: DETAILS OF INCOME
A31: SALARY
A32: Particulars | I32: Total Amount
A33: Gross Salary Received | I33: =25000*12 -> 300000
A34: Less : Standard Deduction u/s-16(ia) | I34: 50000
A35: Total | I35: =I33-I34 -> 250000
A37: BUSINESS & PROFESSION
A38: Nature of Business | D38: Income Type | F38: Business Code | H38: Trade Name
A39: Wholesale & Retail Sale | D39: Income u/s-44AD | F39: 09027 | H39: M/S SRI RAM STORES
A40: Particulars | D40: Digital Transaction | F40: Non-Digital Transaction | I40: Total Amount
A41: Gross Receipts | D41: 0 | F41: ='P&L'!D8 -> 16421263 | I41: =SUM(C41:H41) -> 16421263
A42: Presumptive Income u/s-44AD | D42: 0 | F42: ='P&L'!B26 -> 406521 | I42: =SUM(C42:H42) -> 406521
A44: OTHER SOURCES
A45: Particulars | I45: Total Amount
...

Sheet P&L
A1: =Computation!H39 -> M/S SRI RAM STORES
A2: (PROP : SRI RAM)
A3: =Computation!A2 -> Address : Ram Nagari, Ayodhya, Uttar Pradesh - 224123
A5: Trading & Profit & Loss A/c for the year ended 31st March 2025
A7: Particulars | B7: Amount | C7: Particulars | D7: Amount
A8: To Opening Stock | B8: 1854046 | C8: By Sales | D8: 16421263
A9: To Purchases | B9: 16612459 | C9: By Direct Income | D9: 223051
A10: To Gross Profit | B10: =D11-B8-B9 -> 32617 | C10: By Closing Stock | D10: 1854808
B11: =SUM(B8:B10) -> 18499122 | D11: =SUM(D8:D10) -> 18499122
A12: To Accounting Charges | B12: 24000 | C12: By Gross Profit | D12: =B10 -> 32617
A13: To Audit Fee | B13: 15000 | C13: By Indirect Income | D13: 868214
A14: To Bank Charges & Interest | B14: 11036
A15: To Conveyance & Travelling | B15: 36521
A16: To Depreciation | B16: ='Cap. & Dep.'!I16 -> 3600
A17: To Electricity & Fuel | B17: 78152
A18: To Loading & Unloading | B18: 37485
A19: To Mobile & Wi-Fi | B19: 3254
A20: To Printing & Stationary | B20: 18254
A21: To Rent (Shop & Godown) | B21: 66000
A22: To Salary & Wages | B22: 168000
A23: To Staff Welfare | B23: 15462
A24: To Vehicle Running & Maintenance | B24: 17542
A25: To Misc. Charges | B25: 4
A26: To Net Profit | B26: =D27-(SUM(B12:B25)) -> 406521
B27: =SUM(B12:B26) -> 900831 | D27: =SUM(D12:D26) -> 900831
D29: For, Sri Ram Stores
D34: (Proprietor)

Sheet BS
A1: ='P&L'!A1:D1 -> M/S SRI RAM STORES
A2: ='P&L'!A2:D2 -> (PROP : SRI RAM)
A3: ='P&L'!A3:D3 -> Address : Ram Nagari, Ayodhya, Uttar Pradesh - 224123
A5: BALANCE SHEET
A6: (as on 31-03-2025)
A8: LIABILITIES | B8: Details (Rs.) | C8: Amount (Rs.) | D8: ASSETS | E8: Details (Rs.) | F8: Amount (Rs.)
A9: Capital A/c | D9: Fixed Assets
A10: Proprietor's Fund | B10: ='Cap. & Dep.'!D11 -> 3155162 | C10: =B10 -> 3155162 | D10: Gross Block (Anx.-2) | E10: ='Cap. & Dep.'!H16 -> 36000
A11: (Anx.-1) | D11: Less : Dep. (Anx.-2) | E11: ='Cap. & Dep.'!I16 -> 3600 | F11: =E10-E11 -> 32400
A13: Loans & Liabilities | D13: Deposits & Investments
A14: Secured Loans | B14: 0 | D14: F.D./R.D./Deposits (Anx.-3) | E14: ='Cap. & Dep.'!E23 -> 940810
A15: Unsecured Loans | B15: 0 | C15: =SUM(B14:B15) -> 0 | D15: Other Assets | E15: 0 | F15: =SUM(E14:E15) -> 940810
A17: Current Liabilities | D17: Current Assets
A18: Sundry Creditors | B18: 431895 | D18: GST ITC Receivable | E18: 415791
A19: Audit Fee Payable | B19: 15000 | C19: =SUM(B18:B19) -> 446895 | D19: TDS/TCS Receivable | E19: =6653+8438 -> 15091
D20: Stock in Trade | E20: ='P&L'!D10 -> 1854808
D21: Sundry Debtors | E21: 238395
D22: Cash and Bank (Anx.-4) | E22: ='Cap. & Dep.'!J23 -> 104762 | F22: =SUM(E18:E22) -> 2628847
A24: Total | C24: =SUM(C10:C23) -> 3602057 | D24: Total | F24: =SUM(F10:F23) -> 3602057
F25: =F24-C24 -> 0
F26: ='P&L'!D29 -> For, Sri Ram Stores
F31: ='P&L'!D34 -> (Proprietor)

Sheet Cap. & Dep.
B1: SCHEDULES FORMING PART OF BALANCE SHEET | I1: AY : 2025-26
B2: =BS!A1 -> M/S SRI RAM STORES | I2: FY : 2024-25
B4: Capital Account | D4: Annexure - 1
B5: Particulars | D5: Amount (Rs.)
B6: Opening Balance | D6: 2462631
B7: Add : Introduction | D7: =408422+87836 -> 496258
B8: Add : Profit (C.Y.) | D8: =Computation!I14 -> 696424
B9: Total | D9: =SUM(D6:D8) -> 3655313
B10: Less : Drawings | D10: =447748+12500+39903 -> 500151
B11: Closing Balance | D11: =D9-D10 -> 3155162
B13: Schedule of Depreciation as per Income Tax Act, 1961 | J13: Annexure - 2
B14: Particulars | C14: Rate | D14: Opening WDV (Rs.) | E14: Addition for more than 180 days (Rs.) | F14: Addition for less than 180 days (Rs.) | G14: Deletion (Rs.) | H14: Total (Rs.) | I14: Depreciation (Rs.) | J14: Closing WDV (Rs.)
B15: Furniture & Fixtures | C15: 0.1 | D15: 36000 | E15: 0 | F15: 0 | G15: 0 | H15: =D15+E15+F15-G15 -> 36000 | I15: =ROUND(D15*C15+E15*C15+F15*C15/2,-0.1) -> 3600 | J15: =H15-I15 -> 32400
B16: Total | D16: =SUM(D15:D15) -> 36000 | E16: =SUM(E15:E15) -> 0 | F16: =SUM(F15:F15) -> 0 | G16: =SUM(G15:G15) -> 0 | H16: =SUM(H15:H15) -> 36000 | I16: =SUM(I15:I15) -> 3600 | J16: =SUM(J15:J15) -> 32400
B18: Investments & Deposits | E18: Annexure - 3 | G18: Cash & Bank | J18: Annexure - 4
B19: Bank/Institutions | D19: Closing Balance | G19: Bank/Institutions | I19: Closing Balance
B20: Security Deposit : Birla | E20: 23154 | G20: CBI | J20: 8458
B21: Security Deposit : Dalmia | E21: 671342 | G21: Cash in Hand | J21: 96304
B22: Security Deposit : RCCPL | E22: 246314
B23: Total | E23: =SUM(E20:E22) -> 940810 | G23: Total | J23: =SUM(J20:J22) -> 104762
J25: =BS!F26 -> For, Sri Ram Stores
J30: =BS!F31 -> (Proprietor)
